BEGIN:VCALENDAR
METHOD:PUBLISH
PRODID:Data::ICal 0.13
VERSION:2.0
BEGIN:VEVENT
DESCRIPTION:Source: ¡Celebra el 513 Day en Cincinnati! Una fiesta para toda la familia / Urban One Creative Services



Sea parte del Mercado del Día 513 y presente su negocio junto a otros vendedores locales de toda la comunidad. 



Detalles del Evento&nbsp;13 de mayo de 2026 4:00 PM – 8:00 PM Sawyer Point 



Cómo Aplicar&nbsp;Envíe su solicitud para ser considerado entre el 23 de abril y el 3 de mayo. El envío es gratuito pero no garantiza la selección. Los vendedores seleccionados deberán pagar una cuota de participación de $200 y recibirán un (1) espacio para carpa y una (1) mesa. 



Guía de Productos&nbsp;Los vendedores deben vender únicamente productos aprobados. Se dará preferencia a productos minoristas (retail) y productos pre-envasados. No se permiten alimentos calientes o preparados en el mercado. 



Aplique Aquí&nbsp;https://form.jotform.com/261046323022038 



La selección de vendedores queda a discreción exclusiva de los organizadores del evento. Se proporcionarán términos adicionales tras la aceptación.
DTSTAMP:20260424T135153Z
DTSTART;TZID=America/New_York:19700101T000000
DTEND;TZID=America/New_York:19700101T000000
LOCATION:
SUMMARY:MARKETPLACE 513 DAY
UID:749213--
END:VEVENT
END:VCALENDAR
